BEGIN:VCALENDAR
VERSION:2.0
CALSCALE:GREGORIAN
METHOD:PUBLISH
PRODID://NAPS//469805
BEGIN:VEVENT
DTSTAMP:20260425T173142
VTIMEZONE:America/New_York
DTSTART:20251207T050000Z
DTEND:20260228T044500Z
UID:469805
SUMMARY:Innovative Program Award Grant - Accepting Applications
LOCATION:
DESCRIPTION:Innovative Program Award Grant - Accepting Applications\n\n12/07/25 12:00 AM EST\n - 02/27/26 11:45 PM EST\Description:\nThe National Association of Perinatal Social Workers (NAPSW) is accepting applications for a grant that will provide seed money to fund innovative programs or research that would otherwise not be funded by your place of employment. Visit our Innovative Program Award page for more information and to apply!
X-ALT-DESC;FMTTYPE=text/html:Innovative Program Award Grant - Accepting Applications<br /><br />12/07/25 12:00 AM EST - 02/27/26 11:45 PM EST<br />Description:<br />The National Association of Perinatal Social Workers (NAPSW) is accepting applications for a&nbsp;grant that will provide seed money to fund innovative programs or research that would&nbsp;otherwise not be funded by your place of employment. Visit our <u><strong><a href="https://www.napsw.org/award_details_application.php">Innovative Program Award</a></strong></u> page for more information and to apply!
PRIORITY:3
TRANSP:TRANSPARENT
BEGIN:VALARM
TRIGGER:-PT5M
ACTION:DISPLAY
DESCRIPTION:Reminder
END:VALARM
END:VEVENT
END:VCALENDAR
